BEGIN:VCALENDAR
VERSION:2.0
PRODID:-//OMG Creative Solutions - ECPv6.15.20//NONSGML v1.0//EN
CALSCALE:GREGORIAN
METHOD:PUBLISH
X-ORIGINAL-URL:https://omgcreative.media
X-WR-CALDESC:Events for OMG Creative Solutions
REFRESH-INTERVAL;VALUE=DURATION:PT1H
X-Robots-Tag:noindex
X-PUBLISHED-TTL:PT1H
BEGIN:VTIMEZONE
TZID:America/New_York
BEGIN:DAYLIGHT
TZOFFSETFROM:-0500
TZOFFSETTO:-0400
TZNAME:EDT
DTSTART:20210314T070000
END:DAYLIGHT
BEGIN:STANDARD
TZOFFSETFROM:-0400
TZOFFSETTO:-0500
TZNAME:EST
DTSTART:20211107T060000
END:STANDARD
BEGIN:DAYLIGHT
TZOFFSETFROM:-0500
TZOFFSETTO:-0400
TZNAME:EDT
DTSTART:20220313T070000
END:DAYLIGHT
BEGIN:STANDARD
TZOFFSETFROM:-0400
TZOFFSETTO:-0500
TZNAME:EST
DTSTART:20221106T060000
END:STANDARD
BEGIN:DAYLIGHT
TZOFFSETFROM:-0500
TZOFFSETTO:-0400
TZNAME:EDT
DTSTART:20230312T070000
END:DAYLIGHT
BEGIN:STANDARD
TZOFFSETFROM:-0400
TZOFFSETTO:-0500
TZNAME:EST
DTSTART:20231105T060000
END:STANDARD
END:VTIMEZONE
BEGIN:VEVENT
DTSTART;TZID=America/New_York:20221013T120000
DTEND;TZID=America/New_York:20221013T130000
DTSTAMP:20260423T061424
CREATED:20220917T213239Z
LAST-MODIFIED:20221014T210006Z
UID:96666-1665662400-1665666000@omgcreative.media
SUMMARY:Increase Earnings by Improving Your Communication Skills
DESCRIPTION:WHO: Minerva Salles\, Founder and CEO of OMG Creative Solutions LLC \nWHAT: Presentation on Unique Communications Training \nWHEN: Thursday\, October 13\, 2022\, from 12:00 p.m.- 1:00 p.m. \nWHERE: Virtual Presentation \nWHY: The training would benefit senior managers to avoid the negative implications of poor communication skills.
URL:https://omgcreative.media/event/increase-earnings-by-improving-your-communication-skills/
LOCATION:Virtual Event
CATEGORIES:Be a More Confident Speaker
ATTACH;FMTTYPE=image/png:https://omgcreative.media/wp-content/uploads/2022/09/Rotary-Club_Miramar-Pines.png
END:VEVENT
END:VCALENDAR