BEGIN:VCALENDAR
VERSION:2.0
PRODID:-//OMG Creative Solutions - ECPv6.15.20//NONSGML v1.0//EN
CALSCALE:GREGORIAN
METHOD:PUBLISH
X-WR-CALNAME:OMG Creative Solutions
X-ORIGINAL-URL:https://omgcreative.media
X-WR-CALDESC:Events for OMG Creative Solutions
REFRESH-INTERVAL;VALUE=DURATION:PT1H
X-Robots-Tag:noindex
X-PUBLISHED-TTL:PT1H
BEGIN:VTIMEZONE
TZID:America/New_York
BEGIN:DAYLIGHT
TZOFFSETFROM:-0500
TZOFFSETTO:-0400
TZNAME:EDT
DTSTART:20220313T070000
END:DAYLIGHT
BEGIN:STANDARD
TZOFFSETFROM:-0400
TZOFFSETTO:-0500
TZNAME:EST
DTSTART:20221106T060000
END:STANDARD
BEGIN:DAYLIGHT
TZOFFSETFROM:-0500
TZOFFSETTO:-0400
TZNAME:EDT
DTSTART:20230312T070000
END:DAYLIGHT
BEGIN:STANDARD
TZOFFSETFROM:-0400
TZOFFSETTO:-0500
TZNAME:EST
DTSTART:20231105T060000
END:STANDARD
BEGIN:DAYLIGHT
TZOFFSETFROM:-0500
TZOFFSETTO:-0400
TZNAME:EDT
DTSTART:20240310T070000
END:DAYLIGHT
BEGIN:STANDARD
TZOFFSETFROM:-0400
TZOFFSETTO:-0500
TZNAME:EST
DTSTART:20241103T060000
END:STANDARD
BEGIN:DAYLIGHT
TZOFFSETFROM:-0500
TZOFFSETTO:-0400
TZNAME:EDT
DTSTART:20250309T070000
END:DAYLIGHT
BEGIN:STANDARD
TZOFFSETFROM:-0400
TZOFFSETTO:-0500
TZNAME:EST
DTSTART:20251102T060000
END:STANDARD
END:VTIMEZONE
BEGIN:VTIMEZONE
TZID:America/Chicago
BEGIN:DAYLIGHT
TZOFFSETFROM:-0600
TZOFFSETTO:-0500
TZNAME:CDT
DTSTART:20220313T080000
END:DAYLIGHT
BEGIN:STANDARD
TZOFFSETFROM:-0500
TZOFFSETTO:-0600
TZNAME:CST
DTSTART:20221106T070000
END:STANDARD
BEGIN:DAYLIGHT
TZOFFSETFROM:-0600
TZOFFSETTO:-0500
TZNAME:CDT
DTSTART:20230312T080000
END:DAYLIGHT
BEGIN:STANDARD
TZOFFSETFROM:-0500
TZOFFSETTO:-0600
TZNAME:CST
DTSTART:20231105T070000
END:STANDARD
BEGIN:DAYLIGHT
TZOFFSETFROM:-0600
TZOFFSETTO:-0500
TZNAME:CDT
DTSTART:20240310T080000
END:DAYLIGHT
BEGIN:STANDARD
TZOFFSETFROM:-0500
TZOFFSETTO:-0600
TZNAME:CST
DTSTART:20241103T070000
END:STANDARD
END:VTIMEZONE
BEGIN:VEVENT
DTSTART;TZID=America/New_York:20241213T180000
DTEND;TZID=America/New_York:20241213T220000
DTSTAMP:20260423T135843
CREATED:20240913T181009Z
LAST-MODIFIED:20250130T004042Z
UID:97305-1734112800-1734127200@omgcreative.media
SUMMARY:Mana Tech Demo Day
DESCRIPTION:WHO: Minerva Salles\, Founder and CEO of OMG Creative Solutions LLC \nWHAT: Mana Tech Demo Day with Tech Founders \nWHEN: Friday\, December 13\, 2024\, from 6:00 p.m.- 10:00 p.m. EST \nWHERE: Mana Tech\, 21 SE 1st Ave\, Miami\, FL 33131 \nWHY: The Be a More Confident Speaker is a communication and media training program to help tech innovators create an impact by boosting their speaking presence and presenting a powerful delivery to captivate their audience’s attention.
URL:https://omgcreative.media/event/mana-tech-demo-day/
LOCATION:Mana Tech\, 21 SE 1st Ave.\, Miami\, FL\, 33131\, United States
CATEGORIES:Be a More Confident Speaker,International Business,Public Speaker
ATTACH;FMTTYPE=image/png:https://omgcreative.media/wp-content/uploads/2024/09/Mana-Tech.png
END:VEVENT
BEGIN:VEVENT
DTSTART;TZID=America/New_York:20240927T100000
DTEND;TZID=America/New_York:20240927T120000
DTSTAMP:20260423T135843
CREATED:20240913T175740Z
LAST-MODIFIED:20240913T181128Z
UID:97299-1727431200-1727438400@omgcreative.media
SUMMARY:Mana Tech Speed Dating
DESCRIPTION:WHO: Minerva Salles\, Founder and CEO of OMG Creative Solutions LLC \nWHAT: Mana Tech Speed Dating with Tech Founders \nWHEN: Friday\, September 27\, 2024\, from 10:00 a.m.- 12:00 p.m. EST \nWHERE: Mana Tech\, 21 SE 1st Ave\, Miami\, FL 33131 \nWHY: The Be a More Confident Speaker is an interactive in-person or online training program to help tech innovators create an impact by boosting their speaking presence and presenting a powerful delivery to captivate their audience’s attention.
URL:https://omgcreative.media/event/mana-tech-speed-dating/
LOCATION:Mana Tech\, 21 SE 1st Ave.\, Miami\, FL\, 33131\, United States
CATEGORIES:Be a More Confident Speaker,International Business
ATTACH;FMTTYPE=image/png:https://omgcreative.media/wp-content/uploads/2024/09/Mana-Tech.png
END:VEVENT
BEGIN:VEVENT
DTSTART;TZID=America/New_York:20230615T180000
DTEND;TZID=America/New_York:20230615T200000
DTSTAMP:20260423T135843
CREATED:20230428T040006Z
LAST-MODIFIED:20230530T185802Z
UID:96828-1686852000-1686859200@omgcreative.media
SUMMARY:A Journey of Resilience: An ABC News Broadcaster to Social Impact Entrepreneur
DESCRIPTION:WHO: Minerva Salles\, MPA ’24 and Founder and CEO of OMG Creative Solutions LLC \nWHAT: Student Talk to Columbia University Students and Alumni \nWHEN: Thursday\, June 15\, 2023\, from 6:00 p.m.- 8:00 p.m. EST \nWHERE: Virtual Meeting \nWHY: Minerva Salles will talk about her professional career as a news broadcaster to becoming a social impact entrepreneur and how she stayed resilient through challenging moments.
URL:https://omgcreative.media/event/resilient-through-challenging-times/
LOCATION:Virtual Event
CATEGORIES:Be a More Confident Speaker,Inspirational Speaker,International Business,Public Speaker,Social Impact Entrepreneur,Sustainable Business
ATTACH;FMTTYPE=image/png:https://omgcreative.media/wp-content/uploads/2022/07/CU_Logo.png
END:VEVENT
BEGIN:VEVENT
DTSTART;TZID=America/Chicago:20230517T180000
DTEND;TZID=America/Chicago:20230517T200000
DTSTAMP:20260423T135843
CREATED:20230117T050008Z
LAST-MODIFIED:20230513T164428Z
UID:96726-1684346400-1684353600@omgcreative.media
SUMMARY:Increase Earnings by Improving Your Communication Skills
DESCRIPTION:WHO: Minerva Salles\, Founder and CEO of OMG Creative Solutions LLC \nWHAT: Presentation on Unique Communications Training: Increase Earnings by Improving Your Communication Skills \nWHEN: Wednesday\, May 17\, 2023\, from 6:00 p.m.- 8:00 p.m. CST \nWHERE: Virtual Presentation \nWHY: The unique training would benefit senior managers to help senior managers improve their communication skills.
URL:https://omgcreative.media/event/increase-earnings-by-improving-your-communication-skills-2/
LOCATION:Virtual Event
CATEGORIES:Be a More Confident Speaker,International Business,Public Speaker
ATTACH;FMTTYPE=image/png:https://omgcreative.media/wp-content/uploads/2022/09/IERG.png
END:VEVENT
BEGIN:VEVENT
DTSTART;TZID=America/New_York:20230216T120000
DTEND;TZID=America/New_York:20230216T130000
DTSTAMP:20260423T135843
CREATED:20230126T050001Z
LAST-MODIFIED:20230329T170328Z
UID:96688-1676548800-1676552400@omgcreative.media
SUMMARY:Doing Business with Panama
DESCRIPTION:WHO: Moderator Minerva Salles with Speaker Ambassador of the Republic of Panama to the U.S.\, H.E. Ramón E. Martínez \nWHAT: Presentation on Why Panama is the top choice for businesses wanting to expand their presence in Latin America \nWHEN: Thursday\, February 16\, 2023\, from 12:00 p.m.- 1:15 p.m. \nWHERE: Virtual Presentation \nWHY: Why Panama is the top choice for businesses wanting to expand their presence in Latin America.
URL:https://omgcreative.media/event/doing-business-with-panama/
LOCATION:Virtual Event
CATEGORIES:International Business
ATTACH;FMTTYPE=image/png:https://omgcreative.media/wp-content/uploads/2022/09/IERG.png
END:VEVENT
END:VCALENDAR